Workbook

Sheet Sheet1
A1: Name Of Employee : | J1: Period From - 1/4/2025 To 31/3/2026
A2: Office Address : | C2: Prof. Tushar Chavan
A3: MONTH YEAR | B3: Salary as per Pay Bill | G3: TOTAL | H3: Deductions
B4: BASIC | C4: D.A. | D4: D.A. Diff. | E4: H.R.A | F4: T.A. | H4: P.T. | I4: P.F. | J4: L.I.C. | K4: G.S.L.I. | L4: HOUS. LOAN | M4: I.T. | N4: Other
A5: Mar.25 | B5: 69100 | C5: =ROUND((B5)*53%,0) -> 36623 | D5: 0 | E5: =ROUND((B5)*10%,0) -> 6910 | F5: 1350 | G5: =ROUND(SUM(B5:F5),0) -> 113983 | H5: 200 | I5: 30000 | J5: 633 | K5: 0 | L5: 0 | M5: 5000 | N5: 0
A6: April.25 | B6: 69100 | C6: =ROUND((B6)*53%,0) -> 36623 | D6: 0 | E6: =ROUND((B6)*10%,0) -> 6910 | F6: 1350 | G6: =ROUND(SUM(B6:F6),0) -> 113983 | H6: 200 | I6: 30000 | J6: 633 | K6: 0 | L6: 0 | M6: 5000 | N6: 0
A7: May.25 | B7: 69100 | C7: =ROUND((B7)*53%,0) -> 36623 | D7: 0 | E7: =ROUND((B7)*10%,0) -> 6910 | F7: 44 | G7: =ROUND(SUM(B7:F7),0) -> 112677 | H7: 200 | I7: 30000 | J7: 633 | K7: 0 | L7: 0 | M7: 5000 | N7: 0
A8: June.25 | B8: 69100 | C8: =ROUND((B8)*53%,0) -> 36623 | D8: 0 | E8: =ROUND((B8)*10%,0) -> 6910 | F8: 720 | G8: =ROUND(SUM(B8:F8),0) -> 113353 | H8: 200 | I8: 30000 | J8: 633 | K8: 0 | L8: 0 | M8: 5000 | N8: 0
A9: July.25 | B9: 71200 | C9: =ROUND((B9)*53%,0) -> 37736 | D9: 0 | E9: =ROUND((B9)*10%,0) -> 7120 | F9: 1350 | G9: =ROUND(SUM(B9:F9),0) -> 117406 | H9: 200 | I9: 30000 | J9: 633 | K9: 0 | L9: 0 | M9: 5000 | N9: 0
A10: Aug.25 | B10: 71200 | C10: =ROUND((B10)*55%,0) -> 39160 | D10: 9716 | E10: =ROUND((B10)*10%,0) -> 7120 | F10: 1350 | G10: =ROUND(SUM(B10:F10),0) -> 128546 | H10: 200 | I10: 30000 | J10: 633 | K10: 0 | L10: 0 | M10: 10000 | N10: 0
A11: Sept.25 | B11: 71200 | C11: =ROUND((B11)*55%,0) -> 39160 | D11: 0 | E11: =ROUND((B11)*10%,0) -> 7120 | F11: 1350 | G11: =ROUND(SUM(B11:F11),0) -> 118830 | H11: 200 | I11: 30000 | J11: 633 | K11: 0 | L11: 0 | M11: 10000 | N11: 0
A12: Oct.25 | B12: 71200 | C12: =ROUND((B12)*55%,0) -> 39160 | D12: 0 | E12: =ROUND((B12)*10%,0) -> 7120 | F12: 1350 | G12: =ROUND(SUM(B12:F12),0) -> 118830 | H12: 200 | I12: 30000 | J12: 633 | K12: 0 | L12: 0 | M12: 10000 | N12: 0
A13: Nov.25 | B13: 71200 | C13: =ROUND((B13)*55%,0) -> 39160 | D13: 0 | E13: =ROUND((B13)*10%,0) -> 7120 | F13: 1350 | G13: =ROUND(SUM(B13:F13),0) -> 118830 | H13: 200 | I13: 30000 | J13: 633 | K13: 0 | L13: 0 | M13: 10000 | N13: 0
A14: Dec.25 | B14: 71200 | C14: =ROUND((B14)*55%,0) -> 39160 | D14: =(C14-C13)*5 -> 0 | E14: =ROUND((B14)*10%,0) -> 7120 | F14: 1350 | G14: =ROUND(SUM(B14:F14),0) -> 118830 | H14: 200 | I14: 30000 | J14: 633 | K14: 0 | L14: 0 | M14: 6000 | N14: 0
A15: Jan.26 | B15: 71200 | C15: =ROUND((B15)*55%,0) -> 39160 | D15: 0 | E15: =ROUND((B15)*10%,0) -> 7120 | F15: 1350 | G15: =ROUND(SUM(B15:F15),0) -> 118830 | H15: 200 | I15: 30000 | J15: 633 | K15: 0 | L15: 0 | M15: 6000 | N15: 0
A16: Feb.26 | B16: 71200 | C16: =ROUND((B16)*55%,0) -> 39160 | D16: =(C16-C15)*7 -> 0 | E16: =ROUND((B16)*10%,0) -> 7120 | F16: 1350 | G16: =ROUND(SUM(B16:F16),0) -> 118830 | H16: 300 | I16: 30000 | J16: 633 | K16: 0 | L16: 0 | M16: 6917 | N16: 0
A17: Arrears | B17: 0 | C17: =ROUND((B17)*46%,0) -> 0 | D17: 0 | E17: 0 | F17: 0 | G17: =ROUND(SUM(B17:F17),0) -> 0 | H17: 0 | I17: =G17 -> 0 | J17: 0 | K17: 0 | L17: 0 | M17: 0 | N17: 0
A18: Total | B18: =SUM(B5:B17) -> 846000 | C18: =SUM(C5:C17) -> 458348 | D18: =SUM(D5:D17) -> 9716 | E18: =SUM(E5:E17) -> 84600 | F18: =SUM(F5:F17) -> 14264 | G18: =SUM(G5:G17) -> 1412928 | H18: =SUM(H5:H17) -> 2500 | I18: =SUM(I5:I17) -> 360000 | ... N18: =SUM(N5:N17) -> 0
A20: DATE : | B20: 02.02.2026 | J20: VERIFIED & FOUND CORRECT
A24: PLACE : | B24: CHALISGAON | F24: EMPLOYEE | K24: HEAD OF OFFICE

Sheet Sheet2
A1: STATEMENT OF TAXABLE INCOME
A2: Computation of Total Income for the financial year 2025-2026
D3: (First Name) | H3: (Middle Name) | K3: (Last Name)
A4: NAME OF THE EMPLOYEE
A6: PERMANENT A/C NO. | H6: DATE OF BIRTH
A8: NATIONALIZED BANK | H8: Bank A/C No.
A10: I.F.S.C.CODE | H10: Aadhar No.
A12: OFFICE ADDRESS
A14: MOBILE NO. | E14: 9850737199 | H14: E Mail ID
A15: A. GROSS INCOME : | G15: Rs. | K15: Rs.
B16: Gross Salary | G16: =Sheet1!G18 -> 1412928
B17: Interest on Bank F.D. & Saving etc. | G17: 0 | J17: (A) | K17: =G16+G17+G18 -> 1412928
B18: Other Income | G18: 0
A19: B. | B19: Less : | C19: Standard Deducton | J19: (B) | K19: 75000
A21: C. | B21: Professional Tax | G21: 0
B22: Housing Loan Interest | G22: 0
B23: Donation / Nidhi | G23: 0 | J23: (C) | K23: =G21+G22+G23 -> 0
A24: D. | B24: GROSS TOTAL INCOME : | J24: (D)(A-B-C) | K24: =K17-K23-K19 -> 1337928
A25: E. | B25: Less : Investment u/s 80 C( Maximum Rs. 150000 /-)
B26: Providend Fund | G26: =Sheet1!I18 -> 360000 | J26: * LESS:REBATE U/S 87A
B27: Life Insurance Premium | G27: =Sheet1!J18 -> 7596 | J27: {If Total Taxable Income (E)
B28: G.S.L.I. | G28: =Sheet1!K19 -> 0 | J28: is less than Rs.500,000/-
B29: P.P.F. | G29: 0 | J29: than deduct Rs.12,500/-at(G)}
B30: N.S.C./N.S.C Accured Interest | G30: 0
B31: P.L.I/U.T.I. | G31: 0 | J31: *Are Compulsary
B32: Housing Loan Repayment | G32: 0 | J32: *PAN & AADHAR Card Zerox
B33: Education Fees (Tuition Fees) | G33: 0 | J33: *Nationalized Bank Account No.
B34: Others (LIC) | G34: 0 | J34: *Mobile No.
B35: Total | G35: =SUM(G26:G34) -> 367596 | J35: (E) | K35: 0
A36: F. | B36: Total Taxable Income | J36: (D-E) | K36: =K24-K35 -> 1337928
A37: G. | B37: Income Tax (On (E)as Per Rate Table) | K37: =(K36-1200000)*15%+60000 -> 80689.2
A38: H. | B38: Less :Rebate U/S 87A (Deduct Rs.12500/In (F)) | K38: 0
A39: I. | B39: Tax Payable | J39: (G-H) | K39: =K37-K38 -> 80689.2
A40: J. | B40: Add :Eduction Cess@4%on(H) | K40: =K39*4% -> 3227.568
A41: K. | B41: Total Tax Pable | J41: (I+J) | K41: =K39+K40 -> 83916.768
A42: L. | B42: Less :Relief U/S 89(1)(AsPer foem No.10E) | K42: 0
A43: M | B43: Net Tax Payble | J43: (K-L) | K43: =ROUND(K41-K42,0) -> 83917
A44: N | B44: Less Tax Deducted From Salary | K44: =Sheet1!M18 -> 83917
A45: O | B45: Balance Tax | J45: (M-L) | K45: =K44-K43 -> 0
A47: DATE: 2-2-2026
...
